BEGIN:VCALENDAR
VERSION:2.0
PRODID:-//wp-events-plugin.com//7.2.3.1//EN
TZID:America/Edmonton
X-WR-TIMEZONE:America/Edmonton
BEGIN:VEVENT
UID:1914@calgarycsl.org
DTSTART;TZID=America/Edmonton:20220616T170000
DTEND;TZID=America/Edmonton:20220616T213000
DTSTAMP:20220525T173701Z
URL:https://calgarycsl.org/events/private-workshop/
SUMMARY:Private Workshop
DESCRIPTION:
CATEGORIES:External Private
END:VEVENT
BEGIN:VTIMEZONE
TZID:America/Edmonton
X-LIC-LOCATION:America/Edmonton
BEGIN:DAYLIGHT
DTSTART:20220313T030000
TZOFFSETFROM:-0700
TZOFFSETTO:-0600
TZNAME:MDT
END:DAYLIGHT
END:VTIMEZONE
END:VCALENDAR