BEGIN:VCALENDAR
VERSION:2.0
PRODID:-//wp-events-plugin.com//7.2.3.1//EN
TZID:America/Edmonton
X-WR-TIMEZONE:America/Edmonton
BEGIN:VEVENT
UID:5152@calgarycsl.org
DTSTART:20251214T230000Z
DTEND:20251215T030000Z
DTSTAMP:20251005T165606Z
URL:https://calgarycsl.org/events/private-event-sunday-evenings-weekly-13/
SUMMARY:Private Event Sunday Evenings Weekly
DESCRIPTION:
CATEGORIES:External Private
END:VEVENT
END:VCALENDAR