BEGIN:VCALENDAR
VERSION:2.0
PRODID:-//wp-events-plugin.com//7.2.3.1//EN
TZID:America/Edmonton
X-WR-TIMEZONE:America/Edmonton
BEGIN:VEVENT
UID:5151@calgarycsl.org
DTSTART:20251207T230000Z
DTEND:20251208T030000Z
DTSTAMP:20251005T165553Z
URL:https://calgarycsl.org/events/private-event-sunday-evenings-weekly-12/
SUMMARY:Private Event Sunday Evenings Weekly
DESCRIPTION:
CATEGORIES:External Private
END:VEVENT
END:VCALENDAR