BEGIN:VCALENDAR
VERSION:2.0
PRODID:-//wp-events-plugin.com//7.2.3.1//EN
TZID:America/Edmonton
X-WR-TIMEZONE:America/Edmonton
BEGIN:VEVENT
UID:2008@calgarycsl.org
DTSTART;TZID=America/Edmonton:20220904T130000
DTEND;TZID=America/Edmonton:20220904T160000
DTSTAMP:20220728T133755Z
URL:https://calgarycsl.org/events/private-event-in-sanctuary/
SUMMARY:Private Event in Sanctuary
DESCRIPTION:
CATEGORIES:External Private
END:VEVENT
BEGIN:VTIMEZONE
TZID:America/Edmonton
X-LIC-LOCATION:America/Edmonton
BEGIN:DAYLIGHT
DTSTART:20220313T030000
TZOFFSETFROM:-0700
TZOFFSETTO:-0600
TZNAME:MDT
END:DAYLIGHT
END:VTIMEZONE
END:VCALENDAR