BEGIN:VCALENDAR
VERSION:2.0
PRODID:-//wp-events-plugin.com//7.2.3.1//EN
TZID:America/Edmonton
X-WR-TIMEZONE:America/Edmonton
BEGIN:VEVENT
UID:5488@calgarycsl.org
DTSTART:20260509T013000Z
DTEND:20260509T030000Z
DTSTAMP:20260413T194224Z
URL:https://calgarycsl.org/events/private-event-classroom/
SUMMARY:Private Event - classroom
DESCRIPTION:
END:VEVENT
END:VCALENDAR