BEGIN:VCALENDAR
VERSION:2.0
PRODID:-//wp-events-plugin.com//7.2.3.1//EN
TZID:America/Edmonton
X-WR-TIMEZONE:America/Edmonton
BEGIN:VEVENT
UID:5158@calgarycsl.org
DTSTART:20251231T230000Z
DTEND:20260101T030000Z
DTSTAMP:20251005T165929Z
URL:https://calgarycsl.org/events/private-event-21/
SUMMARY:Private Event
DESCRIPTION:
CATEGORIES:External Private
END:VEVENT
END:VCALENDAR