BEGIN:VCALENDAR
VERSION:2.0
PRODID:-//wp-events-plugin.com//7.2.3.1//EN
TZID:America/Edmonton
X-WR-TIMEZONE:America/Edmonton
BEGIN:VEVENT
UID:1680@calgarycsl.org
DTSTART;TZID=America/Edmonton:20220304T180000
DTEND;TZID=America/Edmonton:20220304T210000
DTSTAMP:20220222T224211Z
URL:https://calgarycsl.org/events/private-event-2022-03-04/
SUMMARY:Private Event
DESCRIPTION:
CATEGORIES:External Private,Meeting
END:VEVENT
BEGIN:VTIMEZONE
TZID:America/Edmonton
X-LIC-LOCATION:America/Edmonton
BEGIN:STANDARD
DTSTART:20211107T010000
TZOFFSETFROM:-0600
TZOFFSETTO:-0700
TZNAME:MST
END:STANDARD
END:VTIMEZONE
END:VCALENDAR