BEGIN:VCALENDAR
VERSION:2.0
PRODID:-//wp-events-plugin.com//7.2.3.1//EN
TZID:America/Edmonton
X-WR-TIMEZONE:America/Edmonton
BEGIN:VEVENT
UID:5157@calgarycsl.org
DTSTART:20251225T230000Z
DTEND:20251226T030000Z
DTSTAMP:20251005T165919Z
URL:https://calgarycsl.org/events/private-event-20/
SUMMARY:Private Event
DESCRIPTION:
CATEGORIES:External Private
END:VEVENT
END:VCALENDAR