BEGIN:VCALENDAR
VERSION:2.0
PRODID:-//wp-events-plugin.com//7.2.3.1//EN
TZID:America/Edmonton
X-WR-TIMEZONE:America/Edmonton
BEGIN:VEVENT
UID:3749@calgarycsl.org
DTSTART:20241025T003000Z
DTEND:20241025T033000Z
DTSTAMP:20240724T195905Z
URL:https://calgarycsl.org/events/private-event-17/
SUMMARY:Freedom is an Inside Job by Valda Harris
DESCRIPTION:
CATEGORIES:External Private
END:VEVENT
END:VCALENDAR