BEGIN:VCALENDAR
VERSION:2.0
PRODID:-//wp-events-plugin.com//7.2.3.1//EN
TZID:America/Edmonton
X-WR-TIMEZONE:America/Edmonton
BEGIN:VEVENT
UID:2585@calgarycsl.org
DTSTART;TZID=America/Edmonton:20230509T183000
DTEND;TZID=America/Edmonton:20230509T210000
DTSTAMP:20230420T171011Z
URL:https://calgarycsl.org/events/powering-your-decisions-2023-05-09/
SUMMARY:POWERING YOUR DECISIONS
DESCRIPTION:Starts May 9\, 6:30 PM and goes every Tuesday for 8 weeks\nTaug
 ht In-person\nFacilitated by Rev. Lesley McNamara\nThis course takes you o
 n a journey to help you produce better results with confidence and clarity
  for life. Attract new ideas into your life today while gaining greater ma
 stery of practical spiritual tools you can apply to all your future decisi
 ons about health\, happiness\, creativity\, and richer living.\n\nYou will
  realize the power of letting go of the thoughts that no longer serve thro
 ugh practical exercises and hands-on self-assessments to strengthen your s
 piritual understanding of how to live Spiritual Principles and deepen your
  relationship with the Divine Nature of the Universe.\n\nPower Your Decisi
 ons Self-Study Workbook included in the course cost.\n\n$270 via e-transfe
 r to office@calgarycsl.org \n\nor you can use your credit card  [wpecpp i
 d=15450] 
ATTACH;FMTTYPE=image/jpeg:https://calgarycsl.org/wp-content/uploads/2023/0
 4/Powering-Your-Decisions-Cir-400x400-1.png
CATEGORIES:Course
LOCATION:Calgary Centre for Spiritual Living\, 4411 Manitoba Rd SE\, Calgar
 y\, AB\, T2G 4B9\, Canada
X-APPLE-STRUCTURED-LOCATION;VALUE=URI;X-ADDRESS=4411 Manitoba Rd SE\, Calga
 ry\, AB\, T2G 4B9\, Canada;X-APPLE-RADIUS=100;X-TITLE=Calgary Centre for S
 piritual Living:geo:0,0
END:VEVENT
BEGIN:VTIMEZONE
TZID:America/Edmonton
X-LIC-LOCATION:America/Edmonton
BEGIN:DAYLIGHT
DTSTART:20230312T030000
TZOFFSETFROM:-0700
TZOFFSETTO:-0600
TZNAME:MDT
END:DAYLIGHT
END:VTIMEZONE
END:VCALENDAR