BEGIN:VCALENDAR
VERSION:2.0
PRODID:-//wp-events-plugin.com//7.2.3.1//EN
TZID:America/Edmonton
X-WR-TIMEZONE:America/Edmonton
BEGIN:VEVENT
UID:4856@calgarycsl.org
DTSTART;TZID=America/Edmonton:20250510T080000
DTEND;TZID=America/Edmonton:20250510T140000
DTSTAMP:20250305T170650Z
URL:https://calgarycsl.org/events/possabilities-mothers-day-brunch/
SUMMARY:PossABilities Mother's Day Brunch
DESCRIPTION:Entire Building
CATEGORIES:External Private
END:VEVENT
BEGIN:VTIMEZONE
TZID:America/Edmonton
X-LIC-LOCATION:America/Edmonton
BEGIN:DAYLIGHT
DTSTART:20250309T030000
TZOFFSETFROM:-0700
TZOFFSETTO:-0600
TZNAME:MDT
END:DAYLIGHT
END:VTIMEZONE
END:VCALENDAR