BEGIN:VCALENDAR
VERSION:2.0
PRODID:-//wp-events-plugin.com//7.2.3.1//EN
TZID:America/Edmonton
X-WR-TIMEZONE:America/Edmonton
BEGIN:VEVENT
UID:4322@calgarycsl.org
DTSTART;TZID=America/Edmonton:20241231T160000
DTEND;TZID=America/Edmonton:20241231T200000
DTSTAMP:20241223T164217Z
URL:https://calgarycsl.org/events/possabilities-3/
SUMMARY:PossABilities
DESCRIPTION:Evening rental
CATEGORIES:External Private
END:VEVENT
BEGIN:VTIMEZONE
TZID:America/Edmonton
X-LIC-LOCATION:America/Edmonton
BEGIN:STANDARD
DTSTART:20241103T010000
TZOFFSETFROM:-0600
TZOFFSETTO:-0700
TZNAME:MST
END:STANDARD
END:VTIMEZONE
END:VCALENDAR