BEGIN:VCALENDAR
VERSION:2.0
PRODID:-//wp-events-plugin.com//7.2.3.1//EN
TZID:America/Edmonton
X-WR-TIMEZONE:America/Edmonton
BEGIN:VEVENT
UID:4956@calgarycsl.org
DTSTART;TZID=America/Edmonton:20260120T093000
DTEND;TZID=America/Edmonton:20260120T143000
DTSTAMP:20250723T164936Z
URL:https://calgarycsl.org/events/possabilities-2025-08-05-2025-08-06-2025
 -08-07-2025-08-12-2025-08-13-2025-08-14-2025-08-19-2025-08-20-2025-08-21-2
 025-08-26-2025-08-27-2025-08-28-2025-09-02-2025-09-03-2025-09-04-2025-09-1
 5-2026-01-20/
SUMMARY:Possabilities
DESCRIPTION:
CATEGORIES:External Private
LOCATION:Calgary Centre for Spiritual Living\, 4411 Manitoba Rd SE\, Calgar
 y\, AB\, T2G 4B9\, Canada
X-APPLE-STRUCTURED-LOCATION;VALUE=URI;X-ADDRESS=4411 Manitoba Rd SE\, Calga
 ry\, AB\, T2G 4B9\, Canada;X-APPLE-RADIUS=100;X-TITLE=Calgary Centre for S
 piritual Living:geo:0,0
END:VEVENT
BEGIN:VTIMEZONE
TZID:America/Edmonton
X-LIC-LOCATION:America/Edmonton
BEGIN:STANDARD
DTSTART:20251102T010000
TZOFFSETFROM:-0600
TZOFFSETTO:-0700
TZNAME:MST
END:STANDARD
END:VTIMEZONE
END:VCALENDAR