BEGIN:VCALENDAR
VERSION:2.0
PRODID:-//wp-events-plugin.com//7.2.3.1//EN
TZID:America/Edmonton
X-WR-TIMEZONE:America/Edmonton
BEGIN:VEVENT
UID:5060@calgarycsl.org
DTSTART;TZID=America/Edmonton:20251226T150000
DTEND;TZID=America/Edmonton:20251226T180000
DTSTAMP:20250723T165013Z
URL:https://calgarycsl.org/events/possabilities-2-2025-08-08-2025-08-15-20
 25-08-22-2025-08-29-2025-09-05-2025-09-12-2025-09-19-2025-09-26-2025-10-03
 -2025-10-10-2025-10-17-2025-10-24-2025-10-31-2025-11-07-2025-11-14-2025-19
 -2025-12-26/
SUMMARY:Possabilities
DESCRIPTION:
CATEGORIES:External Private
LOCATION:Calgary Centre for Spiritual Living\, 4411 Manitoba Rd SE\, Calgar
 y\, AB\, T2G 4B9\, Canada
X-APPLE-STRUCTURED-LOCATION;VALUE=URI;X-ADDRESS=4411 Manitoba Rd SE\, Calga
 ry\, AB\, T2G 4B9\, Canada;X-APPLE-RADIUS=100;X-TITLE=Calgary Centre for S
 piritual Living:geo:0,0
END:VEVENT
BEGIN:VTIMEZONE
TZID:America/Edmonton
X-LIC-LOCATION:America/Edmonton
BEGIN:STANDARD
DTSTART:20251102T010000
TZOFFSETFROM:-0600
TZOFFSETTO:-0700
TZNAME:MST
END:STANDARD
END:VTIMEZONE
END:VCALENDAR