BEGIN:VCALENDAR
VERSION:2.0
PRODID:-//wp-events-plugin.com//7.2.3.1//EN
TZID:America/Edmonton
X-WR-TIMEZONE:America/Edmonton
BEGIN:VEVENT
UID:1908@calgarycsl.org
DTSTART;TZID=America/Edmonton:20220603T193000
DTEND;TZID=America/Edmonton:20220603T220000
DTSTAMP:20220504T141321Z
URL:https://calgarycsl.org/events/oliver-miguel-with-revolucion/
SUMMARY:OLIVER MIGUEL with REVOLUCION
DESCRIPTION:"High Energy!"\n"Amazing Talent!"\n"Super Fun!"\n"These are som
 e of Calgary's local talent gems!"\nA few of the words people have used to
  describe Oliver Miguel and each of the musicians coming together for this
  special\, fun and intimate concert. \nLimited seating.\nCash snacks &amp\
 ; drinks\nTickets for $25 available by clicking here\nDoors open at 7:30 P
 M\, concert starts at 8:00 PM
ATTACH;FMTTYPE=image/jpeg:https://calgarycsl.org/wp-content/uploads/2022/0
 4/86796288_10163239030195694_6460567609975767040_n.jpg
CATEGORIES:Concert,Social
LOCATION:Calgary Centre for Spiritual Living\, 4411 Manitoba Rd SE\, Calgar
 y\, AB\, T2Y 3Z6\, Canada
X-APPLE-STRUCTURED-LOCATION;VALUE=URI;X-ADDRESS=4411 Manitoba Rd SE\, Calga
 ry\, AB\, T2Y 3Z6\, Canada;X-APPLE-RADIUS=100;X-TITLE=Calgary Centre for S
 piritual Living:geo:0,0
END:VEVENT
BEGIN:VTIMEZONE
TZID:America/Edmonton
X-LIC-LOCATION:America/Edmonton
BEGIN:DAYLIGHT
DTSTART:20220313T030000
TZOFFSETFROM:-0700
TZOFFSETTO:-0600
TZNAME:MDT
END:DAYLIGHT
END:VTIMEZONE
END:VCALENDAR