BEGIN:VCALENDAR
VERSION:2.0
PRODID:-//wp-events-plugin.com//7.2.3.1//EN
TZID:America/Edmonton
X-WR-TIMEZONE:America/Edmonton
BEGIN:VEVENT
UID:3407@calgarycsl.org
DTSTART;TZID=America/Edmonton:20240414T103000
DTEND;TZID=America/Edmonton:20240414T104500
DTSTAMP:20240402T165717Z
URL:https://calgarycsl.org/events/new-member-sunday-welcome/
SUMMARY:New Member Sunday Welcome
DESCRIPTION:A warm official welcome to all newly signed up 2024 Members
CATEGORIES:More CCSL Events
END:VEVENT
BEGIN:VTIMEZONE
TZID:America/Edmonton
X-LIC-LOCATION:America/Edmonton
BEGIN:DAYLIGHT
DTSTART:20240310T030000
TZOFFSETFROM:-0700
TZOFFSETTO:-0600
TZNAME:MDT
END:DAYLIGHT
END:VTIMEZONE
END:VCALENDAR