BEGIN:VCALENDAR
VERSION:2.0
PRODID:-//wp-events-plugin.com//7.2.3.1//EN
TZID:America/Edmonton
X-WR-TIMEZONE:America/Edmonton
BEGIN:VEVENT
UID:3411@calgarycsl.org
DTSTART;TZID=America/Edmonton:20240424T183000
DTEND;TZID=America/Edmonton:20240424T210000
DTSTAMP:20240328T171554Z
URL:https://calgarycsl.org/events/new-course-starts-april-24-journey-of-th
 e-soul/
SUMMARY:New Course Starts April 24!  JOURNEY OF THE SOUL
DESCRIPTION:\nJourney of The Soul\nDesigned to support you to unlock your t
 rue potential\, cultivate soul presence\, and align your life with your hi
 ghest purpose. With a focus on practical application\, emotional healing\,
  and daily meditation\, this course empowers students to engage in the tra
 nsformative journey of self-realization and spiritual evolution.\n\n 	Co-f
 acilitated by Licensed Spiritual Practitioners Sabrina Mauro and Lance Rat
 h. This is an in-person only course.\n 	Text: Magic of the Soul\, by Patri
 ck Harbula\n\n6 Weeks\n\n$190\n\nFoundations Course recommended but not re
 quired.\n\n6:30 - 9:00 PM\n\nSend your e-transfer to office@calgarycsl.org
  or...\n\n[wpecpp id="14600" align="center"]
ATTACH;FMTTYPE=image/jpeg:https://calgarycsl.org/wp-content/uploads/2024/0
 3/Journey-of-The-Soul-400x400-1.png
CATEGORIES:Course
LOCATION:Calgary Centre for Spiritual Living\, 4411 Manitoba Rd SE\, Calgar
 y\, AB\, T2G 4B9\, Canada
X-APPLE-STRUCTURED-LOCATION;VALUE=URI;X-ADDRESS=4411 Manitoba Rd SE\, Calga
 ry\, AB\, T2G 4B9\, Canada;X-APPLE-RADIUS=100;X-TITLE=Calgary Centre for S
 piritual Living:geo:0,0
END:VEVENT
BEGIN:VTIMEZONE
TZID:America/Edmonton
X-LIC-LOCATION:America/Edmonton
BEGIN:DAYLIGHT
DTSTART:20240310T030000
TZOFFSETFROM:-0700
TZOFFSETTO:-0600
TZNAME:MDT
END:DAYLIGHT
END:VTIMEZONE
END:VCALENDAR