BEGIN:VCALENDAR
VERSION:2.0
PRODID:-//wp-events-plugin.com//7.2.3.1//EN
TZID:America/Edmonton
X-WR-TIMEZONE:America/Edmonton
BEGIN:VEVENT
UID:3074@calgarycsl.org
DTSTART;TZID=America/Edmonton:20240214T183000
DTEND;TZID=America/Edmonton:20240214T210000
DTSTAMP:20240122T164745Z
URL:https://calgarycsl.org/events/new-course-power-of-your-word-2024-02-14
 /
SUMMARY:New Course - Power of Your Word
DESCRIPTION:Power of Your Word enhances and encourages the development of p
 ersonal spiritual practice in life. It explores Spiritual Mind Treatment b
 y examining each stage of treatment in depth.\n\nEach Wednesday evening\, 
 in-person at the Centre from February 7 to March 27\, with an investment o
 f $245 (payment plans available\, contact the office via email at office@c
 lagarycsl.org) payment button at the bottom of this page.\n\nThis course i
 s a great next step in your Spiritual Growth\, to support you into moving 
 what you learned from other courses into your real life experience.\n\nIn 
 this class you will learn how to identify the underlying factors for effec
 tive treatment\, describe treatment content and write affirmations and tre
 atments that address personal desires and needs for yourself and others.\n
 \nPower of Your Word explores what it means to treat continuously and aids
  in designing and/or deepening a spiritual practice that will continue to 
 feed your spiritual life. Come discover the Power of Your Word.\n\nFacilit
 ated by Rev. Lesley McNamara\n\n**Foundations of Science of Mind is a req
 uired pre-requisite for this class\n\nTextbooks: \n\nCan We Talk to God?
  by Ernest Holmes\nHow to Use the Science of Mind by Ernest Holmes\n\n[w
 pecpp id="15904" align="left"] to pa
ATTACH;FMTTYPE=image/jpeg:https://calgarycsl.org/wp-content/uploads/2024/0
 1/Power-of-Your-Word-Cir-400x400-1.png
CATEGORIES:Course
LOCATION:Calgary Centre for Spiritual Living\, 4411 Manitoba Rd SE\, Calgar
 y\, AB\, T2G 4B9\, Canada
X-APPLE-STRUCTURED-LOCATION;VALUE=URI;X-ADDRESS=4411 Manitoba Rd SE\, Calga
 ry\, AB\, T2G 4B9\, Canada;X-APPLE-RADIUS=100;X-TITLE=Calgary Centre for S
 piritual Living:geo:0,0
END:VEVENT
BEGIN:VTIMEZONE
TZID:America/Edmonton
X-LIC-LOCATION:America/Edmonton
BEGIN:STANDARD
DTSTART:20231105T010000
TZOFFSETFROM:-0600
TZOFFSETTO:-0700
TZNAME:MST
END:STANDARD
END:VTIMEZONE
END:VCALENDAR