BEGIN:VCALENDAR
VERSION:2.0
PRODID:-//wp-events-plugin.com//7.2.3.1//EN
TZID:America/Edmonton
X-WR-TIMEZONE:America/Edmonton
BEGIN:VEVENT
UID:5382@calgarycsl.org
DTSTART;TZID=America/Edmonton:20260310T183000
DTEND;TZID=America/Edmonton:20260310T210000
DTSTAMP:20251217T214454Z
URL:https://calgarycsl.org/events/new-course-foundations-of-the-science-of
 -mind-spirit-2026-03-10/
SUMMARY:NEW COURSE! Foundations of Mind & Spirit
DESCRIPTION:Foundations of Mind and Spirit is an engaging 6 week introducti
 on to the heart of the Science of Mind teaching. In this course\, students
  will explore universal spiritual principles\, discover practical tools fo
 r everyday living\, and learn to apply Science of Mind practices into thei
 r daily lives in ways that foster greater connection\, clarity\, and joy. 
 Whether new to the teaching or seeking a fresh perspective\, participants 
 will find a supportive learning community and opportunities for personal t
 ransformation.\n\nStructured across six modules\, this course weaves toget
 her experiential learning\, diverse teaching styles\, open dialogue\, mean
 ingful connection opportunities\, and practical application. Students will
  leave with a solid foundation in Science of Mind and a confident understa
 nding of how these timeless principles can actively transform their lives 
 today.\n\nNo risk! Register for just $40 to attend all 6 classes. As you g
 ain and see the value\, pay what you feel is appropriate. Alternatively\, 
 you can pay $190 (normal cost for the course) at the start.\n\nLength of C
 ourse: 6 modules\, Tuesday evenings from February 3 - March 10\nRequired T
 ext: A New Design For Living by Ernest Holmes (available in the Soul Shop)
 \nSuggested Tuition: $190.00 (includes $40 education fee)\nFacilitator: Dr
 . Pat Campbell (Spiritual Director of the Calgary Centre for Spiritual Liv
 ing)\n\nSend your desired registration amount by e-transfer to office@calg
 arycsl.org\n\nor register for $40 with the option below:\n\n[wpecpp id=146
 00]
ATTACH;FMTTYPE=image/jpeg:https://calgarycsl.org/wp-content/uploads/2025/1
 2/Foundations-of-SOMS-Cir-400x400-1.png
CATEGORIES:Course
LOCATION:Calgary Centre for Spiritual Living\, 4411 Manitoba Rd SE\, Calgar
 y\, AB\, T2G 4B9\, Canada
X-APPLE-STRUCTURED-LOCATION;VALUE=URI;X-ADDRESS=4411 Manitoba Rd SE\, Calga
 ry\, AB\, T2G 4B9\, Canada;X-APPLE-RADIUS=100;X-TITLE=Calgary Centre for S
 piritual Living:geo:0,0
END:VEVENT
BEGIN:VTIMEZONE
TZID:America/Edmonton
X-LIC-LOCATION:America/Edmonton
BEGIN:DAYLIGHT
DTSTART:20260308T030000
TZOFFSETFROM:-0700
TZOFFSETTO:-0600
TZNAME:MDT
END:DAYLIGHT
END:VTIMEZONE
END:VCALENDAR