BEGIN:VCALENDAR
VERSION:2.0
PRODID:-//wp-events-plugin.com//7.2.3.1//EN
TZID:America/Edmonton
X-WR-TIMEZONE:America/Edmonton
BEGIN:VEVENT
UID:1904@calgarycsl.org
DTSTART;TZID=America/Edmonton:20220525T183000
DTEND;TZID=America/Edmonton:20220525T210000
DTSTAMP:20220519T173938Z
URL:https://calgarycsl.org/events/new-course-change-your-thinking-change-y
 our-life-2022-05-25/
SUMMARY:Change Your Thinking\, Change Your Life
DESCRIPTION:CHANGE YOUR THINKING\, CHANGE YOUR LIFE\nTired of the same old\
 , same old?\n\nWant to add some PIZZAZ to your daily life?\n\nLooking for 
 an uplift in your Relationships\, Prosperity\, and Health?\n\nThen join Re
 v Lesley McNamara in a 6 week journey learning how to apply the\n\nScience
  of Mind principles\, practices and methods to enhance YOUR LIFE!
ATTACH;FMTTYPE=image/jpeg:https://calgarycsl.org/wp-content/uploads/2022/0
 4/pexels-photo-693265.jpeg
CATEGORIES:Course
LOCATION:Calgary Centre for Spiritual Living\, 4411 Manitoba Rd SE\, Calgar
 y\, AB\, T2Y 3Z6\, Canada
X-APPLE-STRUCTURED-LOCATION;VALUE=URI;X-ADDRESS=4411 Manitoba Rd SE\, Calga
 ry\, AB\, T2Y 3Z6\, Canada;X-APPLE-RADIUS=100;X-TITLE=Calgary Centre for S
 piritual Living:geo:0,0
END:VEVENT
BEGIN:VTIMEZONE
TZID:America/Edmonton
X-LIC-LOCATION:America/Edmonton
BEGIN:DAYLIGHT
DTSTART:20220313T030000
TZOFFSETFROM:-0700
TZOFFSETTO:-0600
TZNAME:MDT
END:DAYLIGHT
END:VTIMEZONE
END:VCALENDAR