BEGIN:VCALENDAR
VERSION:2.0
PRODID:-//wp-events-plugin.com//7.2.3.1//EN
TZID:America/Edmonton
X-WR-TIMEZONE:America/Edmonton
BEGIN:VEVENT
UID:5134@calgarycsl.org
DTSTART;TZID=America/Edmonton:20260110T180000
DTEND;TZID=America/Edmonton:20260110T230000
DTSTAMP:20250928T180948Z
URL:https://calgarycsl.org/events/neil-and-carrie-birthday-extravaganza/
SUMMARY:Neil and Carrie Birthday Extravaganza
DESCRIPTION:
CATEGORIES:External Private
END:VEVENT
BEGIN:VTIMEZONE
TZID:America/Edmonton
X-LIC-LOCATION:America/Edmonton
BEGIN:STANDARD
DTSTART:20251102T010000
TZOFFSETFROM:-0600
TZOFFSETTO:-0700
TZNAME:MST
END:STANDARD
END:VTIMEZONE
END:VCALENDAR