BEGIN:VCALENDAR
VERSION:2.0
PRODID:-//wp-events-plugin.com//7.2.3.1//EN
TZID:America/Edmonton
X-WR-TIMEZONE:America/Edmonton
BEGIN:VEVENT
UID:5378@calgarycsl.org
DTSTART;TZID=America/Edmonton:20260122T173000
DTEND;TZID=America/Edmonton:20260122T200000
DTSTAMP:20251211T190738Z
URL:https://calgarycsl.org/events/mothers-of-mind/
SUMMARY:Mothers Of Mind
DESCRIPTION:What is Mothers of Mind?\n\nChampioned by Courtney Thrasher\, M
 others of Mind is a Safe Sanctuary for Women raising children through Scie
 nce of Mind. Each month will encompass: \n\nA family-inclusive evening wit
 h dinner\, running from 5:30-7:30 at the Centre\n\nAll women and mothers a
 re welcome (at any stage of motherhood) \n\nLaunching January 22nd ! A mon
 thly gathering for women and mothers to connect\, share\, and grow togethe
 r through Science of Mind teachings\, creativity\, and community support.
ATTACH;FMTTYPE=image/jpeg:https://calgarycsl.org/wp-content/uploads/2025/1
 2/580D1BD6-DE90-40CE-9985-91A42FE60524.jpg
CATEGORIES:Families
END:VEVENT
BEGIN:VTIMEZONE
TZID:America/Edmonton
X-LIC-LOCATION:America/Edmonton
BEGIN:STANDARD
DTSTART:20251102T010000
TZOFFSETFROM:-0600
TZOFFSETTO:-0700
TZNAME:MST
END:STANDARD
END:VTIMEZONE
END:VCALENDAR