BEGIN:VCALENDAR
VERSION:2.0
PRODID:-//wp-events-plugin.com//7.2.3.1//EN
TZID:America/Edmonton
X-WR-TIMEZONE:America/Edmonton
BEGIN:VEVENT
UID:5490@calgarycsl.org
DTSTART;TZID=America/Edmonton:20260611T173000
DTEND;TZID=America/Edmonton:20260611T193000
DTSTAMP:20260422T144504Z
URL:https://calgarycsl.org/events/mothers-of-mind-3/
SUMMARY:Mothers Of Mind
DESCRIPTION:June 11!\nWhat is Mothers of Mind?\n\nChampioned by Courtney Th
 rasher\, Mothers of Mind is a Safe Sanctuary for Women raising children th
 rough Science of Mind. Each month will encompass:\n\nA family-inclusive ev
 ening with dinner\, running from 5:30-7:30 at the Centre\n\nAll women and 
 mothers are welcome (at any stage of motherhood)\n\nA monthly gathering fo
 r women and mothers to connect\, share\, and grow together through Science
  of Mind teachings\, creativity\, and community support.
ATTACH;FMTTYPE=image/jpeg:https://calgarycsl.org/wp-content/uploads/2025/1
 2/580D1BD6-DE90-40CE-9985-91A42FE60524.jpg
CATEGORIES:Families
END:VEVENT
BEGIN:VTIMEZONE
TZID:America/Edmonton
X-LIC-LOCATION:America/Edmonton
BEGIN:DAYLIGHT
DTSTART:20260308T030000
TZOFFSETFROM:-0700
TZOFFSETTO:-0600
TZNAME:MDT
END:DAYLIGHT
END:VTIMEZONE
END:VCALENDAR