BEGIN:VCALENDAR
VERSION:2.0
PRODID:-//wp-events-plugin.com//7.2.3.1//EN
TZID:America/Edmonton
X-WR-TIMEZONE:America/Edmonton
BEGIN:VEVENT
UID:5379@calgarycsl.org
DTSTART;TZID=America/Edmonton:20260402T173000
DTEND;TZID=America/Edmonton:20260402T193000
DTSTAMP:20260319T171936Z
URL:https://calgarycsl.org/events/mothers-of-mind-2/
SUMMARY:Mothers Of Mind
DESCRIPTION:April 2nd\nWhat is Mothers of Mind?\n\nChampioned by Courtney T
 hrasher\, Mothers of Mind is a Safe Sanctuary for Women raising children t
 hrough Science of Mind. Each month will encompass:\n\nA family-inclusive e
 vening with dinner\, running from 5:30-7:30 at the Centre\n\nAll women and
  mothers are welcome (at any stage of motherhood)\n\nA monthly gathering f
 or women and mothers to connect\, share\, and grow together through Scienc
 e of Mind teachings\, creativity\, and community support.
ATTACH;FMTTYPE=image/jpeg:https://calgarycsl.org/wp-content/uploads/2025/1
 2/Watercolor-Floral-Illustration-Wedding-Invitation.png
CATEGORIES:Families
END:VEVENT
BEGIN:VTIMEZONE
TZID:America/Edmonton
X-LIC-LOCATION:America/Edmonton
BEGIN:DAYLIGHT
DTSTART:20260308T030000
TZOFFSETFROM:-0700
TZOFFSETTO:-0600
TZNAME:MDT
END:DAYLIGHT
END:VTIMEZONE
END:VCALENDAR