BEGIN:VCALENDAR
VERSION:2.0
PRODID:-//wp-events-plugin.com//7.2.3.1//EN
TZID:America/Edmonton
X-WR-TIMEZONE:America/Edmonton
BEGIN:VEVENT
UID:2006@calgarycsl.org
DTSTART;TZID=America/Edmonton:20220814T121500
DTEND;TZID=America/Edmonton:20220814T143000
DTSTAMP:20220803T200159Z
URL:https://calgarycsl.org/events/more-fun-on-the-hill-august-7-after-sund
 ay-service/
SUMMARY:More fun on 'The Hill' August 14 after Sunday Service
DESCRIPTION:A few weeks ago several wonderful people put a lot of hard work
  into completing the removal of grass from a section of the hill. Now we w
 ill be moving soil to this area and planting!\n\nBring your favourite shov
 el\, gloves and sunscreen. Those who help are also invited to join a discu
 ssion for ideas on further development of this area.
ATTACH;FMTTYPE=image/jpeg:https://calgarycsl.org/wp-content/uploads/2022/0
 7/The-Hill.jpg
CATEGORIES:Discussion Group,More CCSL Events,Social
END:VEVENT
BEGIN:VTIMEZONE
TZID:America/Edmonton
X-LIC-LOCATION:America/Edmonton
BEGIN:DAYLIGHT
DTSTART:20220313T030000
TZOFFSETFROM:-0700
TZOFFSETTO:-0600
TZNAME:MDT
END:DAYLIGHT
END:VTIMEZONE
END:VCALENDAR