BEGIN:VCALENDAR
VERSION:2.0
PRODID:-//wp-events-plugin.com//7.2.3.1//EN
TZID:America/Edmonton
X-WR-TIMEZONE:America/Edmonton
BEGIN:VEVENT
UID:3524@calgarycsl.org
DTSTART:20240511T150000Z
DTEND:20240511T230000Z
DTSTAMP:20240502T205100Z
URL:https://calgarycsl.org/events/monika/
SUMMARY:Monika
DESCRIPTION:
END:VEVENT
END:VCALENDAR