BEGIN:VCALENDAR
VERSION:2.0
PRODID:-//wp-events-plugin.com//7.2.3.1//EN
TZID:America/Edmonton
X-WR-TIMEZONE:America/Edmonton
BEGIN:VEVENT
UID:4329@calgarycsl.org
DTSTART;TZID=America/Edmonton:20241021T183000
DTEND;TZID=America/Edmonton:20241021T200000
DTSTAMP:20250113T201758Z
URL:https://calgarycsl.org/events/monday-evening-consciousness-seekers-dis
 cussion-group-2024-10-21/
SUMMARY:Monday Evening Consciousness Seekers Discussion Group
DESCRIPTION:Exercise Your Spiritual Curiosity\n\n\nSpiritual Practitioner R
 on Hahn continues to facilitate this popular and informal discussion group
  on Monday’s from 6:30pm – 8:00pm\, except Holidays\n\nRESUMING OCTOBE
 R 7\n\nText: "When Fear Speaks\, Listen: The 7 Messages of Fear " by Denn
 is Meritt Jones\n\nUse a Psychosocial Spiritual perspective to foster and 
 promote self-worth and self-actualization. In terms of Spiritually\, Ron 
 will be leading from a non-duality perspective.\n\nClick for the Zoom li
 nk\n\nemail office@calgarycsl.org to receive the Zoom Passcode\n\n
ATTACH;FMTTYPE=image/jpeg:https://calgarycsl.org/wp-content/uploads/2022/0
 9/attaining-spiritual-consciousness-2019-02-17.jpg
CATEGORIES:Discussion Group,More CCSL Events
END:VEVENT
BEGIN:VTIMEZONE
TZID:America/Edmonton
X-LIC-LOCATION:America/Edmonton
BEGIN:DAYLIGHT
DTSTART:20240310T030000
TZOFFSETFROM:-0700
TZOFFSETTO:-0600
TZNAME:MDT
END:DAYLIGHT
END:VTIMEZONE
END:VCALENDAR