BEGIN:VCALENDAR
VERSION:2.0
PRODID:-//wp-events-plugin.com//7.2.3.1//EN
TZID:America/Edmonton
X-WR-TIMEZONE:America/Edmonton
BEGIN:VEVENT
UID:5096@calgarycsl.org
DTSTART;TZID=America/Edmonton:20251018T093000
DTEND;TZID=America/Edmonton:20251018T160000
DTSTAMP:20250806T162945Z
URL:https://calgarycsl.org/events/mining-for-gold-unearth-your-magical-int
 uition/
SUMMARY:Mining For Gold - Unearth Your Magical Intuition
DESCRIPTION:Where Practical Meets Magical – Intuition as Your Superpower\
 n\nClaim Your Spot Now – Limited Enrollment\n\nLocation: Calgary Centre 
 for Spiritual Living\n4411 Manitoba Rd SE\, Calgary AB T2G 4B9\n\nInvestme
 nt: $675\nHosted by: Deb McCullough &amp\; Dixie Bennett\n\nSeeking is out
 . Sensing in In. That’s where the gold is.\n\nYou were born with an inne
 r guidance system—powerful\, reliable\, and wise. But in the noise of da
 ily life\, it often gets silenced or overlooked.\nIt’s time to remember.
 \nIt’s time to reconnect.\n\nMining for Gold is a 2.5-day in-person work
 shop + integration journey for women + men who are ready to access the inn
 ate magic within. This is a hands-on\, heart-led experience where intuitio
 n becomes practical—and play becomes joyful.\n\nProgram Schedule\n\nSatu
 rday\, September 13 - The Root Lab\n9:30 AM – 4:00 PM\n\nSaturday\, Octo
 ber 18 - The Light Lab\n9:30 AM – 4:00 PM\n\nThis Is For You If...\n\n\n
 You're Ready to Explore Your Intuition—For Real\n\n\n\nYou don’t need 
 experience\, special powers\, or a chemistry degree—just curiosity.  T
 his is for anyone who senses there’s more beneath the surface and is rea
 dy to explore it. Inside the Lab\, you’ll test your intuition\, try real
  practices\, and discover what’s possible when inner insight meets playf
 ul investigation.\n\n\n\n\n\n\n\n\n\n\n\nYou've had intuitive moments you 
 couldn't explain\nDreams\, gut feelings\, sudden clarity\, synchronicities
 —you’re ready to explore where they come from and what they mean.\n\n\
 n\n\n\n\n\n\n\n\n\n\nYou Want to trust yourself more\nYou’re tired of se
 cond-guessing\, outsourcing your answers\, or feeling disconnected from yo
 ur own wisdom.\n\n\n\n\n\n\n\n\n\n\n\n\nYou miss the magic\nStress\, busyn
 ess\, or burnout has made things feel flat—and you’re craving wonder\,
  play\, and a sense of something more.\n\n\n\n\n\n\n\n\n\n\n\n\nYou're cur
 ious—and maybe a little skeptical\nYou don’t need blind belief. You ju
 st need a safe space to try. Go with your gut.\n\n\n\n\n\n\n\n2.5 days of 
 immersive in-person workshops\n\n2 integration calls to anchor your learni
 ng\n\nA suite of intuitive tools and practices\n\nA private Facebook group
  and community chat\n\n---\n\nWhy Now? Why You?\n\nIf you've ever said to 
 yourself\, "I've always wanted to do that\," this is your sign.\nYou don
 ’t have to live disconnected\, doubtful\, or on autopilot.\nThe gold is 
 already within you.\nYou’re just being called to uncover it.\n\n---\n\nY
 our Intuition is the Key To...\n\nINNER EXPLORATION • SPIRITUAL AWAKENIN
 G • CREATIVE GENIUS\nPERSONAL POWER • PURPOSE • SELF-REALIZATION •
  WHOLENESS\n\n---\n\nLet’s Unearth the Magic Within Together\n\nJoin Deb
  and Dixie for this soulful\, practical\, and playful journey into your in
 tuitive gifts.\nYou’ll leave not only with tools—but with trust.\nNot 
 only with insight—but with inspiration.\nAnd most of all—with a renewe
 d sense of connection to who you truly are.\n\n---\n\nClaim Your Spot Now 
 – Limited Enrollment
ATTACH;FMTTYPE=image/jpeg:https://calgarycsl.org/wp-content/uploads/2025/0
 6/thumbnail_AdobeStock_1341163936-scaled-1.jpg
CATEGORIES:External Private
END:VEVENT
BEGIN:VTIMEZONE
TZID:America/Edmonton
X-LIC-LOCATION:America/Edmonton
BEGIN:DAYLIGHT
DTSTART:20250309T030000
TZOFFSETFROM:-0700
TZOFFSETTO:-0600
TZNAME:MDT
END:DAYLIGHT
END:VTIMEZONE
END:VCALENDAR