BEGIN:VCALENDAR
VERSION:2.0
PRODID:-//wp-events-plugin.com//7.2.3.1//EN
TZID:America/Edmonton
X-WR-TIMEZONE:America/Edmonton
BEGIN:VEVENT
UID:961@calgarycsl.org
DTSTART:20201125T013000Z
DTEND:20201125T033000Z
DTSTAMP:20201022T161741Z
URL:https://calgarycsl.org/events/mental-equivalents-accredited-class-2020
 -11-24/
SUMMARY:Mental Equivalents Accredited Class
DESCRIPTION:NEW ACCREDITED CLASS!\n\nMENTAL EQUIVALENTS\n\nTaught by Rev. M
 arjorie Contenti and Rev. Lesley McNamara\n\nTuesday\, November 10 – Dec
 ember 8 6:30 – 8:30 pm. Via Zoom\n\nCourse fee: $170 (includes registr
 ation)\n\nLeap into a state of true potential by activating the powerful L
 aw of Mental Equivalents. For every formed thing in the Universe there is 
 a corresponding mental image. Discover how to measure and expand your thin
 king to create a larger mental image so that your greatest desires may dem
 onstrate.\n\nRegister by sending an e-transfer to office@calgarycsl.org\n\
 nZoom information will be sent closer to the class\n\nBook: Mental Equival
 ents by Emmet Fox (available on Amazon kindle or free pdf at https://www.t
 ruthunity.net/tracts/emmet-fox-the-mental-equivalent
ATTACH;FMTTYPE=image/jpeg:https://calgarycsl.org/wp-content/uploads/2020/1
 0/mental-equivalents.jpg
CATEGORIES:Course
END:VEVENT
END:VCALENDAR