BEGIN:VCALENDAR
VERSION:2.0
PRODID:-//wp-events-plugin.com//7.2.3.1//EN
TZID:America/Edmonton
X-WR-TIMEZONE:America/Edmonton
BEGIN:VEVENT
UID:4287@calgarycsl.org
DTSTART;TZID=America/Edmonton:20250108T173000
DTEND;TZID=America/Edmonton:20250108T223000
DTSTAMP:20241216T153509Z
URL:https://calgarycsl.org/events/mens-group-meeting/
SUMMARY:Men's Group Meeting
DESCRIPTION:January 8 \n5:30 - 9:30 PM\n
CATEGORIES:External Private
END:VEVENT
BEGIN:VTIMEZONE
TZID:America/Edmonton
X-LIC-LOCATION:America/Edmonton
BEGIN:STANDARD
DTSTART:20241103T010000
TZOFFSETFROM:-0600
TZOFFSETTO:-0700
TZNAME:MST
END:STANDARD
END:VTIMEZONE
END:VCALENDAR