BEGIN:VCALENDAR
VERSION:2.0
PRODID:-//wp-events-plugin.com//7.2.3.1//EN
TZID:America/Edmonton
X-WR-TIMEZONE:America/Edmonton
BEGIN:VEVENT
UID:549@calgarycsl.org
DTSTART;TZID=America/Edmonton:20201101T100000
DTEND;TZID=America/Edmonton:20201101T102000
DTSTAMP:20201028T191715Z
URL:https://calgarycsl.org/events/meditation-livestream-2020-11-01/
SUMMARY:Sunday Meditation LIVESTREAM
DESCRIPTION:Everyone is welcome to participate in a free meditation guided 
 by Licensed Ministers and Spiritual Practitioners from the Calgary Centre 
 for Spiritual Living on Sundays 10 am to 10:20 am LIVESTREAM. We practice 
 and teach many forms of meditation\, mindfulness\, and visioning\, many in
 spired from the many faith tradition from around the world as well as simp
 le secular wellness techniques.\n\nThis Sunday we have Lance Rath offering
  the meditation and treatment.
ATTACH;FMTTYPE=image/jpeg:https://calgarycsl.org/wp-content/uploads/2020/0
 4/Lance-copy-2.jpg
CATEGORIES:Meditation
END:VEVENT
BEGIN:VTIMEZONE
TZID:America/Edmonton
X-LIC-LOCATION:America/Edmonton
BEGIN:STANDARD
DTSTART:20201101T010000
TZOFFSETFROM:-0600
TZOFFSETTO:-0700
TZNAME:MST
END:STANDARD
END:VTIMEZONE
END:VCALENDAR