BEGIN:VCALENDAR
VERSION:2.0
PRODID:-//wp-events-plugin.com//7.2.3.1//EN
TZID:America/Edmonton
X-WR-TIMEZONE:America/Edmonton
BEGIN:VEVENT
UID:544@calgarycsl.org
DTSTART;TZID=America/Edmonton:20200927T100000
DTEND;TZID=America/Edmonton:20200927T102000
DTSTAMP:20200924T154831Z
URL:https://calgarycsl.org/events/meditation-livestream-2020-09-27/
SUMMARY:Sunday Meditation LIVESTREAM
DESCRIPTION:\n\n\nJoin us for our morning meditation\, led newly licensed p
 ractitioner Fran Watson\, at 10:00 am\, then our always incredible music\,
  with Amy Bishop\, Oliver Miguel and the CCSL band\, will start right at 1
 0:30.\n\n\n\n\n\nEveryone is welcome to participate in a free meditation g
 uided by Licensed Ministers and Spiritual Practitioners from the Calgary C
 entre for Spiritual Living on Sundays 10 am to 10:20 am LIVESTREAM. We pra
 ctice and teach many forms of meditation\, mindfulness\, and visioning\, m
 any inspired from the many faith tradition from around the world as well a
 s simple secular wellness techniques.\n
ATTACH;FMTTYPE=image/jpeg:https://calgarycsl.org/wp-content/uploads/2020/0
 6/Screen-Shot-2020-06-08-at-1.02.14-PM.png
CATEGORIES:Meditation
END:VEVENT
BEGIN:VTIMEZONE
TZID:America/Edmonton
X-LIC-LOCATION:America/Edmonton
BEGIN:DAYLIGHT
DTSTART:20200308T030000
TZOFFSETFROM:-0700
TZOFFSETTO:-0600
TZNAME:MDT
END:DAYLIGHT
END:VTIMEZONE
END:VCALENDAR