BEGIN:VCALENDAR
VERSION:2.0
PRODID:-//wp-events-plugin.com//7.2.3.1//EN
TZID:America/Edmonton
X-WR-TIMEZONE:America/Edmonton
BEGIN:VEVENT
UID:543@calgarycsl.org
DTSTART;TZID=America/Edmonton:20200920T100000
DTEND;TZID=America/Edmonton:20200920T102000
DTSTAMP:20200916T161509Z
URL:https://calgarycsl.org/events/meditation-livestream-2020-09-20/
SUMMARY:Sunday Meditation LIVESTREAM
DESCRIPTION:Today's meditation will be lead by: Spiritual Practitioner Luci
 lle Worone.\n\nEveryone is welcome to participate in a free meditation gui
 ded by Licensed Ministers and Spiritual Practitioners from the Calgary Cen
 tre for Spiritual Living on Sundays 10 am to 10:20 am LIVESTREAM. We pract
 ice and teach many forms of meditation\, mindfulness\, and visioning\, man
 y inspired from the many faith tradition from around the world as well as 
 simple secular wellness techniques.
ATTACH;FMTTYPE=image/jpeg:https://calgarycsl.org/wp-content/uploads/2019/1
 2/lucille-worone.jpg
CATEGORIES:Meditation
END:VEVENT
BEGIN:VTIMEZONE
TZID:America/Edmonton
X-LIC-LOCATION:America/Edmonton
BEGIN:DAYLIGHT
DTSTART:20200308T030000
TZOFFSETFROM:-0700
TZOFFSETTO:-0600
TZNAME:MDT
END:DAYLIGHT
END:VTIMEZONE
END:VCALENDAR