BEGIN:VCALENDAR
VERSION:2.0
PRODID:-//wp-events-plugin.com//7.2.3.1//EN
TZID:America/Edmonton
X-WR-TIMEZONE:America/Edmonton
BEGIN:VEVENT
UID:524@calgarycsl.org
DTSTART;TZID=America/Edmonton:20200510T100000
DTEND;TZID=America/Edmonton:20200510T102000
DTSTAMP:20200910T151953Z
URL:https://calgarycsl.org/events/meditation-livestream-2020-05-10/
SUMMARY:Sunday Meditation LIVESTREAM
DESCRIPTION:Everyone is welcome to participate in a free meditation guided 
 by Licensed Ministers and Spiritual Practitioners from the Calgary Centre 
 for Spiritual Living on Sundays 10 am to 10:20 am LIVESTREAM. We practice 
 and teach many forms of meditation\, mindfulness\, and visioning\, many in
 spired from the many faith tradition from around the world as well as simp
 le secular wellness techniques.
ATTACH;FMTTYPE=image/jpeg:https://calgarycsl.org/wp-content/uploads/2020/0
 3/workshop-consciousness.jpg
CATEGORIES:Meditation
END:VEVENT
BEGIN:VTIMEZONE
TZID:America/Edmonton
X-LIC-LOCATION:America/Edmonton
BEGIN:DAYLIGHT
DTSTART:20200308T030000
TZOFFSETFROM:-0700
TZOFFSETTO:-0600
TZNAME:MDT
END:DAYLIGHT
END:VTIMEZONE
END:VCALENDAR