BEGIN:VCALENDAR
VERSION:2.0
PRODID:-//wp-events-plugin.com//7.2.3.1//EN
TZID:America/Edmonton
X-WR-TIMEZONE:America/Edmonton
BEGIN:VEVENT
UID:2169@calgarycsl.org
DTSTART;TZID=America/Edmonton:20230124T183000
DTEND;TZID=America/Edmonton:20230124T210000
DTSTAMP:20221128T194116Z
URL:https://calgarycsl.org/events/meditation-is-more-than-you-think-2023-0
 1-24/
SUMMARY:Meditation Is More Than You Think
DESCRIPTION:8 week class\nStarting Tuesday January 10 and going to February
  28\n\n6:30 PM - 9:00 PM *NOTE - This will be taught as in-person only\nEx
 periment. Learn. Practice and have Fun with Meditation.\n\nIt is More than
  you Think!\nThis course teaches many different modalities of meditation\,
 \nsuch as mantras\, sound\, movement and breathing.\nEach week one or two 
 experiential forms of meditation are practiced.\nOpen to explorers\, seeke
 rs\, experts and complete newcomers to mediation.\n&nbsp\;\n\n
ATTACH;FMTTYPE=image/jpeg:https://calgarycsl.org/wp-content/uploads/2020/0
 3/meditationbanner.jpg
CATEGORIES:Course
END:VEVENT
BEGIN:VTIMEZONE
TZID:America/Edmonton
X-LIC-LOCATION:America/Edmonton
BEGIN:STANDARD
DTSTART:20221106T010000
TZOFFSETFROM:-0600
TZOFFSETTO:-0700
TZNAME:MST
END:STANDARD
END:VTIMEZONE
END:VCALENDAR