BEGIN:VCALENDAR
VERSION:2.0
PRODID:-//wp-events-plugin.com//7.2.3.1//EN
TZID:America/Edmonton
X-WR-TIMEZONE:America/Edmonton
BEGIN:VEVENT
UID:5177@calgarycsl.org
DTSTART:20260127T013000Z
DTEND:20260127T030000Z
DTSTAMP:20251222T083832Z
URL:https://calgarycsl.org/events/meditate-online-monday-evenings-2026-01-
 26/
SUMMARY:MEDITATE ONLINE MONDAY EVENINGS
DESCRIPTION:Get reconnected to your true self with a brief meditation after
  a hectic Monday. Join us for a 15-minute online meditation followed by a 
 reflection and sharing time.\nEvery Monday! (excluding holidays)\nStart ti
 me 6:30 PM\nLook for the online access link in the NewsLetter (sign up her
 e)\n
ATTACH;FMTTYPE=image/jpeg:https://calgarycsl.org/wp-content/uploads/2025/1
 0/4734c93e-8ed8-48f2-a27c-acf54f2ea34d.jpg
CATEGORIES:Meditation,More CCSL Events
END:VEVENT
END:VCALENDAR