BEGIN:VCALENDAR
VERSION:2.0
PRODID:-//wp-events-plugin.com//7.2.3.1//EN
TZID:America/Edmonton
X-WR-TIMEZONE:America/Edmonton
BEGIN:VEVENT
UID:3564@calgarycsl.org
DTSTART;TZID=America/Edmonton:20240531T150000
DTEND;TZID=America/Edmonton:20240531T223000
DTSTAMP:20240508T161555Z
URL:https://calgarycsl.org/events/may-31-possabilities-fundraiser/
SUMMARY:May 31 POSSABILITIES FUNDRAISER
DESCRIPTION:(and Jane's birthday)\n\n&nbsp\;\n\nEntire building in use
CATEGORIES:External Private
END:VEVENT
BEGIN:VTIMEZONE
TZID:America/Edmonton
X-LIC-LOCATION:America/Edmonton
BEGIN:DAYLIGHT
DTSTART:20240310T030000
TZOFFSETFROM:-0700
TZOFFSETTO:-0600
TZNAME:MDT
END:DAYLIGHT
END:VTIMEZONE
END:VCALENDAR