BEGIN:VCALENDAR
VERSION:2.0
PRODID:-//wp-events-plugin.com//7.2.3.1//EN
TZID:America/Edmonton
X-WR-TIMEZONE:America/Edmonton
BEGIN:VEVENT
UID:3526@calgarycsl.org
DTSTART;TZID=America/Edmonton:20240519T123000
DTEND;TZID=America/Edmonton:20240519T140000
DTSTAMP:20240506T173649Z
URL:https://calgarycsl.org/events/may-19-planning-your-life-legacy/
SUMMARY:May 19 - PLANNING YOUR LIFE LEGACY
DESCRIPTION:Sunday May 19\n\n12:30 - 2:00 PM\n\nOne of the greatest gifts y
 ou can give your family and yourself.\n\nJoin Spiritual Practitioner Conni
 e Chau as she shares her knowledge on how to be prepared and have peace of
  mind.
ATTACH;FMTTYPE=image/jpeg:https://calgarycsl.org/wp-content/uploads/2024/0
 5/Connie-Workshop.png
CATEGORIES:Workshop
END:VEVENT
BEGIN:VTIMEZONE
TZID:America/Edmonton
X-LIC-LOCATION:America/Edmonton
BEGIN:DAYLIGHT
DTSTART:20240310T030000
TZOFFSETFROM:-0700
TZOFFSETTO:-0600
TZNAME:MDT
END:DAYLIGHT
END:VTIMEZONE
END:VCALENDAR