BEGIN:VCALENDAR
VERSION:2.0
PRODID:-//wp-events-plugin.com//7.2.3.1//EN
TZID:America/Edmonton
X-WR-TIMEZONE:America/Edmonton
BEGIN:VEVENT
UID:4862@calgarycsl.org
DTSTART;TZID=America/Edmonton:20250606T190000
DTEND;TZID=America/Edmonton:20250606T210000
DTSTAMP:20250327T190615Z
URL:https://calgarycsl.org/events/matthew-kocel-in-concert/
SUMMARY:MATTHEW KOCEL IN CONCERT!
DESCRIPTION:EMMERSE YOURSELF IN THE THIS AMAZING SOUND EXPERIENCE\nHere's y
 our chance to see Matthew Kocel on his Alberta Tour!\n\nWho is Matthew Koc
 el? Give a listen here - https://youtu.be/I2XZ1aMj9IA?si=YZ_M_uydaxY7Zzms
 &amp\;t=88\n\nDoors Open at 6:30 PM\n\nConcert starts at 7:00 PM\n\n&nbsp\
 ;\n\nWhat if music could cut through the noise\, soothe your heart\, and h
 elp you feel connected to the Earth and Universe in ways you never thought
  possible?\n\n“Matthew Kocel’s music is so primal\, so rich and brilli
 antly soulful... It touches us on a profoundly deep level and opens our he
 arts..." - Dr Joe Dispenza\n\nImagine floating in an ocean of sacred soun
 d...vibration so profound it seems to bend the very fabric of time &amp\; 
 space.\n\nA surreal voice resonates to the core of your being...It’s har
 d to believe these tones come from a human.\n\nWaking dreams\,“aha” mo
 ments\, extra-ordinary sensations\, and physical healing are commonly repo
 rted by people attending his events.\n\n“Words seem so deficient for exp
 laining the depth of experience... I was being moved by sound\, my whole b
 ody was light and vibrating.”\n\n- Vancouver Yoga Review\n\nMatthew Koce
 l is an internationally renowned throat singer/sonic alchemist with over 3
 0 years in career as a performer\, recording artist and multi-disciplinary
  healing arts practitioner.\n\nAffectionately known as the “Cosmic Throa
 t Singer\,” Matthew is a man on a mission to bring coherence and peace t
 o the world.\n\nHe has released 3 albums\, toured around the globe\, and h
 is music is featured in Dr Joe Dispenza’s advanced guided meditations an
 d retreats.\n\nTICKETS:\n\nContact office@calgarycsl.org for CCSL communit
 y ticket rate\, or go to\n\nhttps://MatthewKocelinYYC.eventbrite.ca
ATTACH;FMTTYPE=image/jpeg:https://calgarycsl.org/wp-content/uploads/2025/0
 3/mk-promo-1-right-scaled.jpg
CATEGORIES:Concert
END:VEVENT
BEGIN:VTIMEZONE
TZID:America/Edmonton
X-LIC-LOCATION:America/Edmonton
BEGIN:DAYLIGHT
DTSTART:20250309T030000
TZOFFSETFROM:-0700
TZOFFSETTO:-0600
TZNAME:MDT
END:DAYLIGHT
END:VTIMEZONE
END:VCALENDAR