BEGIN:VCALENDAR
VERSION:2.0
PRODID:-//wp-events-plugin.com//7.2.3.1//EN
TZID:America/Edmonton
X-WR-TIMEZONE:America/Edmonton
BEGIN:VEVENT
UID:5236@calgarycsl.org
DTSTART;TZID=America/Edmonton:20260327T190000
DTEND;TZID=America/Edmonton:20260327T210000
DTSTAMP:20260326T154226Z
URL:https://calgarycsl.org/events/matthew-kocel-in-concert-2/
SUMMARY:MATTHEW KOCEL COSMIC SOUND EXPERIENCE
DESCRIPTION:EMMERSE YOURSELF IN THE THIS AMAZING SOUND EXPERIENCE\nHere's y
 our chance to see Matthew Kocel LIVE in Calgary!\n\nWho is Matthew Kocel? 
 Give a listen here - https://youtu.be/I2XZ1aMj9IA?si=YZ_M_uydaxY7Zzms&amp
 \;t=88\n\nDoors Open at 6:30 PM\nBring your Yoga Mat and pillow for the Ul
 timate Sound Bath Experience\nEvent starts at 7:00 PM\n\n&nbsp\;\n\nWhat i
 f music could cut through the noise\, soothe your heart\, and help you fee
 l connected to the Earth and Universe in ways you never thought possible?\
 n\n“Matthew Kocel’s music is so primal\, so rich and brilliantly soulf
 ul... It touches us on a profoundly deep level and opens our hearts..." -
  Dr Joe Dispenza\n\nImagine floating in an ocean of sacred sound...vibrati
 on so profound it seems to bend the very fabric of time &amp\; space.\n\nA
  surreal voice resonates to the core of your being...It’s hard to believ
 e these tones come from a human.\n\nWaking dreams\,“aha” moments\, ext
 ra-ordinary sensations\, and physical healing are commonly reported by peo
 ple attending his events.\n\n“Words seem so deficient for explaining the
  depth of experience... I was being moved by sound\, my whole body was lig
 ht and vibrating.”\n\n- Vancouver Yoga Review\n\nMatthew Kocel is an int
 ernationally renowned throat singer/sonic alchemist with over 30 years in 
 career as a performer\, recording artist and multi-disciplinary healing ar
 ts practitioner.\n\nAffectionately known as the “Cosmic Throat Singer\,
 ” Matthew is a man on a mission to bring coherence and peace to the worl
 d.\n\nHe has released 3 albums\, toured around the globe\, and his music i
 s featured in Dr Joe Dispenza’s advanced guided meditations and retreats
 .\n\nTICKETS: $45 at the door (if not sold out)
ATTACH;FMTTYPE=image/jpeg:https://calgarycsl.org/wp-content/uploads/2025/0
 3/mk-promo-1-right-scaled.jpg
CATEGORIES:Concert
END:VEVENT
BEGIN:VTIMEZONE
TZID:America/Edmonton
X-LIC-LOCATION:America/Edmonton
BEGIN:DAYLIGHT
DTSTART:20260308T030000
TZOFFSETFROM:-0700
TZOFFSETTO:-0600
TZNAME:MDT
END:DAYLIGHT
END:VTIMEZONE
END:VCALENDAR