BEGIN:VCALENDAR
VERSION:2.0
PRODID:-//wp-events-plugin.com//7.2.3.1//EN
TZID:America/Edmonton
X-WR-TIMEZONE:America/Edmonton
BEGIN:VEVENT
UID:3563@calgarycsl.org
DTSTART;TZID=America/Edmonton:20240622T130000
DTEND;TZID=America/Edmonton:20240622T153000
DTSTAMP:20240611T200241Z
URL:https://calgarycsl.org/events/marnie/
SUMMARY:Marnie Swinehart Celebration of Life
DESCRIPTION:Celebration of Life for Marnie will be held at the Calgary Cent
 re for Spiritual Living\, 4411 Manitoba Road SE\, Calgary\, Alberta on Sat
 urday June 22\, 2024. Doors open at 1:00pm.\n\nThose wishing to attend the
  Celebration of Life online may do so starting at 1:20 PM through : https:
 //us02web.zoom.us/j/84095886880?pwd=e4hQs8U4MabbASi3w7Zx66tAXljgYL.1
CATEGORIES:External Private
END:VEVENT
BEGIN:VTIMEZONE
TZID:America/Edmonton
X-LIC-LOCATION:America/Edmonton
BEGIN:DAYLIGHT
DTSTART:20240310T030000
TZOFFSETFROM:-0700
TZOFFSETTO:-0600
TZNAME:MDT
END:DAYLIGHT
END:VTIMEZONE
END:VCALENDAR