BEGIN:VCALENDAR
VERSION:2.0
PRODID:-//wp-events-plugin.com//7.2.3.1//EN
TZID:America/Edmonton
X-WR-TIMEZONE:America/Edmonton
BEGIN:VEVENT
UID:4861@calgarycsl.org
DTSTART;TZID=America/Edmonton:20250329T080000
DTEND;TZID=America/Edmonton:20250329T180000
DTSTAMP:20250325T184728Z
URL:https://calgarycsl.org/events/march-29-all-day-mens-healing-group-with
 -david-macelwain/
SUMMARY:March 29 ALL DAY -Men's Healing Group with David MacElwain
DESCRIPTION:
CATEGORIES:External Private
END:VEVENT
BEGIN:VTIMEZONE
TZID:America/Edmonton
X-LIC-LOCATION:America/Edmonton
BEGIN:DAYLIGHT
DTSTART:20250309T030000
TZOFFSETFROM:-0700
TZOFFSETTO:-0600
TZNAME:MDT
END:DAYLIGHT
END:VTIMEZONE
END:VCALENDAR