BEGIN:VCALENDAR
VERSION:2.0
PRODID:-//wp-events-plugin.com//7.2.3.1//EN
TZID:America/Edmonton
X-WR-TIMEZONE:America/Edmonton
BEGIN:VEVENT
UID:4855@calgarycsl.org
DTSTART;TZID=America/Edmonton:20250323T123000
DTEND;TZID=America/Edmonton:20250323T140000
DTSTAMP:20250311T173854Z
URL:https://calgarycsl.org/events/march-23-feed-your-faith-and-starve-your
 -fear/
SUMMARY:March 23 - Feed Your Faith and Starve Your Fear
DESCRIPTION:\n\n\n\nFeed Your Faith and Starve Your Fear\nMarch 23rd from 1
 2:30 to 2:00\nValda Harris\, RScP\n \nDuring this session you will unpac
 k part of your 'Spiritual First Aid Kit' of awareness by learning and prac
 ticing tools that will support you in uncertain times. \n\n\n 	Have your 
 fear without it ‘having you’\n\n 	Tools to use when you notice fear sh
 owing up for you\n\n\n 	Pivot to Faith \n\n 	Place your attention on what
  you would love to experience\n\n\n\nOur Workshops fill up quickly\, pleas
 e send an e-transfer for $20 to secure your spot (email address for e-tran
 sfer is office@calgarycsl.org)\n\n\n\n\n
ATTACH;FMTTYPE=image/jpeg:https://calgarycsl.org/wp-content/uploads/2025/0
 2/thumbnail_image.png
CATEGORIES:Workshop
END:VEVENT
BEGIN:VTIMEZONE
TZID:America/Edmonton
X-LIC-LOCATION:America/Edmonton
BEGIN:DAYLIGHT
DTSTART:20250309T030000
TZOFFSETFROM:-0700
TZOFFSETTO:-0600
TZNAME:MDT
END:DAYLIGHT
END:VTIMEZONE
END:VCALENDAR