BEGIN:VCALENDAR
VERSION:2.0
PRODID:-//wp-events-plugin.com//7.2.3.1//EN
TZID:America/Edmonton
X-WR-TIMEZONE:America/Edmonton
BEGIN:VEVENT
UID:5435@calgarycsl.org
DTSTART:20260320T020000Z
DTEND:20260320T030000Z
DTSTAMP:20260303T201316Z
URL:https://calgarycsl.org/events/march-19-7-8-pm/
SUMMARY:March 19 7 - 8 PM
DESCRIPTION:Classroom
CATEGORIES:External Private
END:VEVENT
END:VCALENDAR