BEGIN:VCALENDAR
VERSION:2.0
PRODID:-//wp-events-plugin.com//7.2.3.1//EN
TZID:America/Edmonton
X-WR-TIMEZONE:America/Edmonton
BEGIN:VEVENT
UID:5433@calgarycsl.org
DTSTART:20260315T000000Z
DTEND:20260315T010000Z
DTSTAMP:20260302T194011Z
URL:https://calgarycsl.org/events/march-14-5-6-pm/
SUMMARY:March 14 5-6 PM
DESCRIPTION:
CATEGORIES:External Private
END:VEVENT
END:VCALENDAR