BEGIN:VCALENDAR
VERSION:2.0
PRODID:-//wp-events-plugin.com//7.2.3.1//EN
TZID:America/Edmonton
X-WR-TIMEZONE:America/Edmonton
BEGIN:VEVENT
UID:5430@calgarycsl.org
DTSTART:20260314T013000Z
DTEND:20260314T050000Z
DTSTAMP:20260217T170701Z
URL:https://calgarycsl.org/events/march-13-community-games-night/
SUMMARY:March 13 - Community Games Night
DESCRIPTION:Classroom
ATTACH;FMTTYPE=image/jpeg:https://calgarycsl.org/wp-content/uploads/2025/0
 3/F54UPD3O7FGKBB4EY272MUHVYE.jpg
CATEGORIES:Social
END:VEVENT
END:VCALENDAR