BEGIN:VCALENDAR
VERSION:2.0
PRODID:-//wp-events-plugin.com//7.2.3.1//EN
TZID:America/Edmonton
X-WR-TIMEZONE:America/Edmonton
BEGIN:VEVENT
UID:4866@calgarycsl.org
DTSTART;TZID=America/Edmonton:20250601T123000
DTEND;TZID=America/Edmonton:20250601T140000
DTSTAMP:20250528T164757Z
URL:https://calgarycsl.org/events/make-your-own-flower-pot/
SUMMARY:HANDS ON "GREEN THUMB” PLANTER WORKSHOP
DESCRIPTION:WORKSHOP IS FULL!!!!\n&nbsp\;\n\n&nbsp\;\nHave you never plante
 d your own flower planter before or even if you have\, are you ready to ad
 d some color and life to your patio or garden? Join us for a fun and educa
 tional workshop where you'll learn how to create a beautiful flower plante
 r or hanging basket (max. 14" diameter) that will thrive throughout the g
 rowing season!\nWhat You'll Get:\n\n\n 	Step-by-step guidance: Learn the s
 ecrets to planting flowers for a thriving\, colorful display.\n 	Expert ti
 ps: Discover how to choose the best flowers for your sunny or shady area a
 nd how to care for them to ensure they flourish.\n 	Your own creation: Br
 ing your own pot and leave with a custom-planted arrangement that’s cre
 ated with love.\n\nWhat's Included:\n\n\n 	All flowers and soil will be pr
 ovided!\n 	Expert instruction on planting and arranging your flowers.\n 	A
  fun\, relaxing time in a friendly group setting!\n\nHow It Works:\n\n\n 	
 Bring your own pot (or hanging basket) 10” - 14" diameter.\n 	A small f
 ee will cover the cost of the flowers and soil.\n 	You’ll receive everyt
 hing you need to create a planter that thrives in your garden or on your p
 atio.\n 	Additionally\, if you have some extra annuals or perennials to sh
 are\, bring them to the workshop.  All left over plants will be used at t
 he Hospice Gardens Project.\n\nLimited Spots Available!\nReserve your plac
 e today and get ready to plant\, learn\, and enjoy a beautiful\, personali
 zed flower arrangement!  Don’t forget to bring a pot or basket!\n Date
  of Workshop: Sunday\, June 1st at 1:00 p.m. \nLocation: in CCSL Parking
  Lot\nFee: $20.00 per pot (to cover soil and plants)\nFor more info or to
  sign up:  See Sandra &amp\; Neil in the Lobby on a Sunday after service.
ATTACH;FMTTYPE=image/jpeg:https://calgarycsl.org/wp-content/uploads/2025/0
 4/My-Front-door-planter-3.jpg
CATEGORIES:Social
END:VEVENT
BEGIN:VTIMEZONE
TZID:America/Edmonton
X-LIC-LOCATION:America/Edmonton
BEGIN:DAYLIGHT
DTSTART:20250309T030000
TZOFFSETFROM:-0700
TZOFFSETTO:-0600
TZNAME:MDT
END:DAYLIGHT
END:VTIMEZONE
END:VCALENDAR