BEGIN:VCALENDAR
VERSION:2.0
PRODID:-//wp-events-plugin.com//7.2.3.1//EN
TZID:America/Edmonton
X-WR-TIMEZONE:America/Edmonton
BEGIN:VEVENT
UID:1485@calgarycsl.org
DTSTART:20210106T200000Z
DTEND:20210106T220000Z
DTSTAMP:20211206T160003Z
URL:https://calgarycsl.org/events/loopers/
SUMMARY:Loopers
DESCRIPTION:Loopers will be in the Centre looping.
END:VEVENT
END:VCALENDAR