BEGIN:VCALENDAR
VERSION:2.0
PRODID:-//wp-events-plugin.com//7.2.3.1//EN
TZID:America/Edmonton
X-WR-TIMEZONE:America/Edmonton
BEGIN:VEVENT
UID:2596@calgarycsl.org
DTSTART;TZID=America/Edmonton:20230507T120000
DTEND;TZID=America/Edmonton:20230507T133000
DTSTAMP:20230501T162232Z
URL:https://calgarycsl.org/events/loopers-looping-7/
SUMMARY:Loopers Looping
DESCRIPTION:Everyone welcome to learn and participate
ATTACH;FMTTYPE=image/jpeg:https://calgarycsl.org/wp-content/uploads/2022/1
 0/looms.png
CATEGORIES:More CCSL Events
END:VEVENT
BEGIN:VTIMEZONE
TZID:America/Edmonton
X-LIC-LOCATION:America/Edmonton
BEGIN:DAYLIGHT
DTSTART:20230312T030000
TZOFFSETFROM:-0700
TZOFFSETTO:-0600
TZNAME:MDT
END:DAYLIGHT
END:VTIMEZONE
END:VCALENDAR