BEGIN:VCALENDAR
VERSION:2.0
PRODID:-//wp-events-plugin.com//7.2.3.1//EN
TZID:America/Edmonton
X-WR-TIMEZONE:America/Edmonton
BEGIN:VEVENT
UID:3085@calgarycsl.org
DTSTART;TZID=America/Edmonton:20240505T123000
DTEND;TZID=America/Edmonton:20240505T140000
DTSTAMP:20240402T165613Z
URL:https://calgarycsl.org/events/loopers-looping-2024-03-03/
SUMMARY:Loopers Looping
DESCRIPTION:This great group of passionate and amazing people get together 
 the first Sunday of every month after Sunday Service to create toques and 
 other items for those in need in our city.\n\nAnyone is always welcome to 
 join them.\n\n12:30 onwards for an hour or so.
ATTACH;FMTTYPE=image/jpeg:https://calgarycsl.org/wp-content/uploads/2024/0
 1/81uRwekbRL._AC_UF8941000_QL80_.jpg
CATEGORIES:Social
LOCATION:Calgary Centre for Spiritual Living\, 4411 Manitoba Rd SE\, Calgar
 y\, AB\, T2G 4B9\, Canada
X-APPLE-STRUCTURED-LOCATION;VALUE=URI;X-ADDRESS=4411 Manitoba Rd SE\, Calga
 ry\, AB\, T2G 4B9\, Canada;X-APPLE-RADIUS=100;X-TITLE=Calgary Centre for S
 piritual Living:geo:0,0
END:VEVENT
BEGIN:VTIMEZONE
TZID:America/Edmonton
X-LIC-LOCATION:America/Edmonton
BEGIN:DAYLIGHT
DTSTART:20240310T030000
TZOFFSETFROM:-0700
TZOFFSETTO:-0600
TZNAME:MDT
END:DAYLIGHT
END:VTIMEZONE
END:VCALENDAR